BEGIN:VCALENDAR
BEGIN:VEVENT
DTSTAMP:20260422T082258Z
DTSTART;VALUE=DATE:20261006
DTEND;VALUE=DATE:20261009
SUMMARY: Vakbeurs Energie 
UID:20260422T082258Z-1@192.168.122.1
LOCATION:Brabanthallen 's-Hertogenbosch\, Diezekade 1\, 5222 AK 's-Hertog
 enbosch / Nederland
DESCRIPTION:Vakbeurs Energie is 's lands grootste en meest complete zakel
 ijke netwerkevenement in het kader van duurzame opwekking en besparing v
 an energie in de gebouwde omgeving. Drie dagen kennis delen en zaken doe
 n!
END:VEVENT
END:VCALENDAR
