BEGIN:VCALENDAR
BEGIN:VEVENT
DTSTAMP:20260421T155459Z
DTSTART;VALUE=DATE:20261014
DTEND;VALUE=DATE:20261016
SUMMARY:ibs 2022
UID:20260421T155459Z-1@192.168.122.1
LOCATION:מרכז התערוכות והכנסים Paris Porte de Versailles - ביתן 5.1
DESCRIPTION:הפחתת פליטת גזי חממה והאצת הפיתוח של מבנים דלי פחמן היא כעת ח
 ובה על מנת לעמוד באתגרי האקלים. מגזר הבנייה\, ובפרט מערכות HVAC\, הוא מנ
 וף אמיתי להפחתת טביעת הרגל הפחמנית והשגת חיסכון באנרגיה.
END:VEVENT
END:VCALENDAR
