BEGIN:VCALENDAR
BEGIN:VEVENT
DTSTAMP:20260421T193102Z
DTSTART;VALUE=DATE:20260929
DTEND;VALUE=DATE:20261002
SUMMARY:FinnBuild
UID:20260421T193102Z-1@192.168.122.1
LOCATION:Messukeskus\, Messuaukio 1\, 00520 Helsinki / Suomi 
DESCRIPTION:Nyt jo yli viisikymppinen FinnBuild villitsee jälleen 29.9.–1
 .10.2026 rakennusalan ammattilaiset ja rakennuttajat Helsingin Messukesk
 uksessa. Ensimmäisen kerran vuonna 1974 järjestetty tapahtuma on vakiinn
 uttanut asemansa rakennusalan tärkeimpänä tapahtumana Suomessa niin osal
 listuvien yritysten\, kävijämäärän kuin näyttelypinta-alankin perusteell
 a.
END:VEVENT
END:VCALENDAR
